0.300000
0.000000
0.000000
-0.300000
511725.140089
3609732.123120
