0.300000
0.000000
0.000000
-0.300000
517588.040089
3609744.123120
