0.300000
0.000000
0.000000
-0.300000
622698.140089
3645198.123120
