0.300000
0.000000
0.000000
-0.300000
616772.540089
3652052.823120
