0.300000
0.000000
0.000000
-0.300000
488191.940089
3547371.123120
