0.300000
0.000000
0.000000
-0.300000
494095.640089
3547366.023120
