0.300000
0.000000
0.000000
-0.300000
488200.040089
3554299.023120
