0.300000
0.000000
0.000000
-0.300000
663024.140089
3680468.223120
