0.300000
0.000000
0.000000
-0.300000
558177.740089
3686143.623120
