0.300000
0.000000
0.000000
-0.300000
563995.640089
3686183.523120
