0.300000
0.000000
0.000000
-0.300000
563950.040089
3693112.923120
