0.300000
0.000000
0.000000
-0.300000
598762.940089
3700356.723120
