0.300000
0.000000
0.000000
-0.300000
541182.740089
3575185.623120
