0.300000
0.000000
0.000000
-0.300000
535274.840089
3582088.023120
