0.300000
0.000000
0.000000
-0.300000
541154.240089
3582113.823120
