0.300000
0.000000
0.000000
-0.300000
552209.840089
3713824.623120
