0.300000
0.000000
0.000000
-0.300000
546375.140089
3720720.723120
