0.300000
0.000000
0.000000
-0.300000
547001.240089
3589071.123120
