0.300000
0.000000
0.000000
-0.300000
523336.340089
3658260.123120
