0.300000
0.000000
0.000000
-0.300000
529170.740089
3658279.323120
