0.300000
0.000000
0.000000
-0.300000
523319.840089
3665188.923120
