0.300000
0.000000
0.000000
-0.300000
529150.340089
3665208.123120
