0.300000
0.000000
0.000000
-0.300000
534955.640089
3672159.723120
