0.300000
0.000000
0.000000
-0.300000
540752.840089
3679114.923120
