0.300000
0.000000
0.000000
-0.300000
540897.440089
3644470.023120
