0.300000
0.000000
0.000000
-0.300000
535030.040089
3651373.023120
