0.300000
0.000000
0.000000
-0.300000
570356.540089
3610008.123120
