0.300000
0.000000
0.000000
-0.300000
482336.840089
3575091.423120
