0.300000
0.000000
0.000000
-0.300000
482348.840227
3582019.435985
