0.300000
0.000000
0.000000
-0.300000
558301.940089
3665356.023120
