0.300000
0.000000
0.000000
-0.300000
564132.140089
3665395.923120
