0.300000
0.000000
0.000000
-0.300000
499999.040089
3588933.723120
