0.300000
0.000000
0.000000
-0.300000
505874.240089
3588938.823120
