0.300000
0.000000
0.000000
-0.300000
645035.159256
3714832.382759
