0.300000
0.000000
0.000000
-0.300000
523303.340089
3672118.023120
