0.300000
0.000000
0.000000
-0.300000
529129.640089
3672137.223120
