0.300000
0.000000
0.000000
-0.300000
529108.940089
3679066.323120
