0.300000
0.000000
0.000000
-0.300000
570209.540089
3630794.223120
