0.300000
0.000000
0.000000
-0.300000
576060.440089
3630841.023120
