0.300000
0.000000
0.000000
-0.300000
576007.340089
3637769.823120
