0.300000
0.000000
0.000000
-0.300000
558260.540089
3672285.123120
