0.300000
0.000000
0.000000
-0.300000
558219.140089
3679214.223120
