0.300000
0.000000
0.000000
-0.300000
564041.240089
3679254.423120
