0.300000
0.000000
0.000000
-0.300000
476433.140089
3568175.223120
