0.300000
0.000000
0.000000
-0.300000
482324.840089
3568163.223120
