0.300000
0.000000
0.000000
-0.300000
668243.759256
3715224.482759
