0.300000
0.000000
0.000000
-0.300000
668122.259256
3722155.082759
