0.300000
0.000000
0.000000
-0.300000
546341.540089
3727650.423120
