0.300000
0.000000
0.000000
-0.300000
581333.240089
3700183.923120
