0.300000
0.000000
0.000000
-0.300000
587143.040089
3700237.923120
